BEGIN:VCALENDAR
VERSION:2.0
PRODID:-//wp-events-plugin.com//6.6.1//EN
BEGIN:VEVENT
UID:413@thegymforher.com
DTSTART:20241001T173000Z
DTEND:20241001T182000Z
DTSTAMP:20240924T011417Z
URL:https://thegymforher.com/events/stepping-with-t-step-aerobics-2024-10-
 01/
SUMMARY:Stepping with T Step Aerobics
DESCRIPTION:Get ready to groove and move in our Steppin' with T Step Aerobi
 cs class\, where you'll enjoy an hour of fun filled with upbeat music remi
 xes from the 80s\, 90s\, and 2000s!
ATTACH;FMTTYPE=image/jpeg:https://thegymforher.com/wp-content/uploads/2023
 /12/steppin-c-1-2.jpg
END:VEVENT
END:VCALENDAR